BEGIN:VCALENDAR
VERSION:2.0
PRODID:-//Aberst - ECPv5.14.1//NONSGML v1.0//EN
CALSCALE:GREGORIAN
METHOD:PUBLISH
X-WR-CALNAME:Aberst
X-ORIGINAL-URL:https://aberst.com.br
X-WR-CALDESC:Eventos para Aberst
REFRESH-INTERVAL;VALUE=DURATION:PT1H
X-Robots-Tag:noindex
X-PUBLISHED-TTL:PT1H
BEGIN:VTIMEZONE
TZID:UTC
BEGIN:STANDARD
TZOFFSETFROM:+0000
TZOFFSETTO:+0000
TZNAME:UTC
DTSTART:20200101T000000
END:STANDARD
END:VTIMEZONE
BEGIN:VEVENT
DTSTART;TZID=UTC:20200831T200000
DTEND;TZID=UTC:20200905T200000
DTSTAMP:20260424T160457
CREATED:20211005T020451Z
LAST-MODIFIED:20211005T020451Z
UID:697-1598904000-1599336000@aberst.com.br
SUMMARY:SEMANA ABERST
DESCRIPTION:Em setembro\, a ABERST celebra seu terceiro aniversário\, e para comemorar nós organizamos uma semana cheia de atividades para nossos associados – desde cursos sobre escrita a formalização de MEI. Os cursos são gratuitos e exclusivos para autores associados da ABERST. Confira a programação:⁣\n⁣\n31/08 – 20:00 – Criação de Roteiro para Quadrinhos com Raphael Fernandes (CURSO EXTRA!)⁣\n01/09 – 20:00 – Dominando processadores de texto para escritores – Everaldo Rodrigues⁣\n02/09 – 20:00 – Estruturação de Textos com Cláudia Lemes⁣\n03/09 – 20:00 – MEIs – Micro empreendedor individual com Danilo Gabriel J Vidal  – Juscon Assessoria Contábil⁣\n04/09 – 20:00 – Financiamento Coletivo – Valquíria Vlad – Diretora de Mídia Aberst e do Catarse⁣\n05/09 – 16:00 – A Narrativa Policial de Jorge Luiz Borges – Lyslei Nascimento – Professora da UFMG⁣\n⁣\n⚠️ Haverá sorteio de livros durante todos os cursos.
URL:https://aberst.com.br/acontecimento/semana-aberst/
CATEGORIES:Cursos
ATTACH;FMTTYPE=image/jpeg:https://aberst.com.br/wp-content/uploads/2021/10/wp-1598452664368.jpg
ORGANIZER;CN="Aberst":MAILTO:social@aberst.com.br
END:VEVENT
END:VCALENDAR